BEGIN:VCALENDAR
VERSION:2.0
PRODID:-//Stichting Autoladder Zaandam - ECPv6.15.20//NONSGML v1.0//EN
CALSCALE:GREGORIAN
METHOD:PUBLISH
X-WR-CALNAME:Stichting Autoladder Zaandam
X-ORIGINAL-URL:https://autoladderzaandam.nl
X-WR-CALDESC:Evenementen voor Stichting Autoladder Zaandam
REFRESH-INTERVAL;VALUE=DURATION:PT1H
X-Robots-Tag:noindex
X-PUBLISHED-TTL:PT1H
BEGIN:VTIMEZONE
TZID:Europe/Amsterdam
BEGIN:DAYLIGHT
TZOFFSETFROM:+0100
TZOFFSETTO:+0200
TZNAME:CEST
DTSTART:20250330T010000
END:DAYLIGHT
BEGIN:STANDARD
TZOFFSETFROM:+0200
TZOFFSETTO:+0100
TZNAME:CET
DTSTART:20251026T010000
END:STANDARD
BEGIN:DAYLIGHT
TZOFFSETFROM:+0100
TZOFFSETTO:+0200
TZNAME:CEST
DTSTART:20260329T010000
END:DAYLIGHT
BEGIN:STANDARD
TZOFFSETFROM:+0200
TZOFFSETTO:+0100
TZNAME:CET
DTSTART:20261025T010000
END:STANDARD
BEGIN:DAYLIGHT
TZOFFSETFROM:+0100
TZOFFSETTO:+0200
TZNAME:CEST
DTSTART:20270328T010000
END:DAYLIGHT
BEGIN:STANDARD
TZOFFSETFROM:+0200
TZOFFSETTO:+0100
TZNAME:CET
DTSTART:20271031T010000
END:STANDARD
END:VTIMEZONE
BEGIN:VEVENT
DTSTART;TZID=Europe/Amsterdam:20260425T093000
DTEND;TZID=Europe/Amsterdam:20260425T160000
DTSTAMP:20260423T150842
CREATED:20260308T202624Z
LAST-MODIFIED:20260331T111846Z
UID:3986-1777109400-1777132800@autoladderzaandam.nl
SUMMARY:Zaterdag 25 april 2026
DESCRIPTION:Werkdag \n 
URL:https://autoladderzaandam.nl/event/zaterdag-25-april-2026/
LOCATION:Garage Wandelweg\, Wandelweg 5\, Wormerveer\, Noord Holland\, Netherlands
CATEGORIES:Alle evenementen,Werkdag
ATTACH;FMTTYPE=image/jpeg:https://autoladderzaandam.nl/wp-content/uploads/2025/11/IMG-20220430-WA0001.jpg
END:VEVENT
END:VCALENDAR